BEGIN:VCALENDAR
VERSION:2.0
PRODID:-//Institut Normand de Sciences Religieuses
CALSCALE:GREGORIAN
METHOD:PUBLISH
X-WR-CALNAME:Institut Normand de Sciences Religieuses
X-ORIGINAL-URL:https://insr-normandie.fr/event/avez-vous-pense-a-la-formation-professionnelle/
X-WR-CALDESC:Avez-vous pensé à la Formation Pro ? C&rsquo;est possible à l&rsquo;INSR !
BEGIN:VEVENT
DTSTART:20210901T000000
DTEND:20220701T000000
SUMMARY:Avez-vous pensé à la Formation Pro ? C&rsquo;est possible à l&rsquo;INSR !
DESCRIPTION:
LOCATION:
END:VEVENT
END:VCALENDAR
