BEGIN:VCALENDAR
VERSION:2.0
PRODID:-//Institut Normand de Sciences Religieuses
CALSCALE:GREGORIAN
METHOD:PUBLISH
X-WR-CALNAME:Institut Normand de Sciences Religieuses
X-ORIGINAL-URL:https://insr-normandie.fr/event/une-formation-sur-mesure-pour-les-animateurs-en-pastorale-scolaire/
X-WR-CALDESC:Une formation sur mesure pour les animateurs en pastorale scolaire
BEGIN:VEVENT
DTSTART:20210901T000000
DTEND:20220630T000000
SUMMARY:Une formation sur mesure pour les animateurs en pastorale scolaire
DESCRIPTION:
LOCATION:
END:VEVENT
END:VCALENDAR
