BEGIN:VCALENDAR
VERSION:2.0
PRODID:-//Institut Normand de Sciences Religieuses
CALSCALE:GREGORIAN
METHOD:PUBLISH
X-WR-CALNAME:Institut Normand de Sciences Religieuses
X-ORIGINAL-URL:https://insr-normandie.fr/event/les-repercussions-sociales-et-communautaires-du-kerygme-philippe-leonard-et-maurice-morand/
X-WR-CALDESC:Les répercussions sociales et communautaires du Kérygme <br><strong>Philippe LEONARD </strong>et Maurice MORAND
BEGIN:VEVENT
DTSTART:20220224T143000
DTEND:
SUMMARY:Les répercussions sociales et communautaires du Kérygme <br><strong>Philippe LEONARD </strong>et Maurice MORAND
DESCRIPTION:
LOCATION:
END:VEVENT
END:VCALENDAR
