BEGIN:VCALENDAR
VERSION:2.0
PRODID:-//Institut Normand de Sciences Religieuses
CALSCALE:GREGORIAN
METHOD:PUBLISH
X-WR-CALNAME:Institut Normand de Sciences Religieuses
X-ORIGINAL-URL:https://insr-normandie.fr/event/400-ans-saint-francois-de-sales-exposition-et-conference/
X-WR-CALDESC:400 ans Saint François de Sales : exposition et conférence
BEGIN:VEVENT
DTSTART:20221115T000000
DTEND:20221129T000000
SUMMARY:400 ans Saint François de Sales : exposition et conférence
DESCRIPTION:
LOCATION:
END:VEVENT
END:VCALENDAR
