BEGIN:VCALENDAR
VERSION:2.0
PRODID:-//Institut Normand de Sciences Religieuses
CALSCALE:GREGORIAN
METHOD:PUBLISH
X-WR-CALNAME:Institut Normand de Sciences Religieuses
X-ORIGINAL-URL:https://insr-normandie.fr/event/lecoute-des-pauvres-francois-odinet/
X-WR-CALDESC:L&rsquo;écoute des pauvres : chemin de transformation pour l&rsquo;Église et le monde ?</br><strong>François ODINET</strong>
BEGIN:VEVENT
DTSTART:20241114T200000
DTEND:
SUMMARY:L&rsquo;écoute des pauvres : chemin de transformation pour l&rsquo;Église et le monde ?</br><strong>François ODINET</strong>
DESCRIPTION:
LOCATION:
END:VEVENT
END:VCALENDAR
