BEGIN:VCALENDAR
VERSION:2.0
PRODID:-//Institut Normand de Sciences Religieuses
CALSCALE:GREGORIAN
METHOD:PUBLISH
X-WR-CALNAME:Institut Normand de Sciences Religieuses
X-ORIGINAL-URL:https://insr-normandie.fr/event/ecclesiologie-le-mystere-de-leglise/
X-WR-CALDESC:Ecclésiologie : le mystère de l&rsquo;Église
BEGIN:VEVENT
DTSTART:20250225T110000
DTEND:20250603T170000
SUMMARY:Ecclésiologie : le mystère de l&rsquo;Église
DESCRIPTION:
LOCATION:
END:VEVENT
END:VCALENDAR
