BEGIN:VCALENDAR
VERSION:2.0
PRODID:-//Institut Normand de Sciences Religieuses
CALSCALE:GREGORIAN
METHOD:PUBLISH
X-WR-CALNAME:Institut Normand de Sciences Religieuses
X-ORIGINAL-URL:https://insr-normandie.fr/event/le-christ-crucifie-sagesse-de-dieu-au-coeur-de-la-theologie-de-saint-anselme/
X-WR-CALDESC:Le Christ Crucifié Sagesse de Dieu, au cœur de la théologie de saint Anselme
BEGIN:VEVENT
DTSTART:20250403T183000
DTEND:20250403T200000
SUMMARY:Le Christ Crucifié Sagesse de Dieu, au cœur de la théologie de saint Anselme
DESCRIPTION:
LOCATION:
END:VEVENT
END:VCALENDAR
