BEGIN:VCALENDAR
VERSION:2.0
PRODID:-//Institut Normand de Sciences Religieuses
CALSCALE:GREGORIAN
METHOD:PUBLISH
X-WR-CALNAME:Institut Normand de Sciences Religieuses
X-ORIGINAL-URL:https://insr-normandie.fr/event/existe-t-il-une-lecture-juive-du-nouveau-testament-philippe-haddad/
X-WR-CALDESC:Dialogue judéo-chrétien<br/><strong/>C. LE SOURT, C. LUBECKI, P. HADDAD</strong><br/>
BEGIN:VEVENT
DTSTART:20250305T183000
DTEND:20250306T220000
SUMMARY:Dialogue judéo-chrétien<br/><strong/>C. LE SOURT, C. LUBECKI, P. HADDAD</strong><br/>
DESCRIPTION:
LOCATION:
END:VEVENT
END:VCALENDAR
