BEGIN:VCALENDAR
VERSION:2.0
PRODID:-//Institut Normand de Sciences Religieuses
CALSCALE:GREGORIAN
METHOD:PUBLISH
X-WR-CALNAME:Institut Normand de Sciences Religieuses
X-ORIGINAL-URL:https://insr-normandie.fr/event/fratelli-tutti-une-encyclique-qui-invite-a-lengagement/
X-WR-CALDESC:Fratelli Tutti, une Encyclique qui invite à l&rsquo;engagement
BEGIN:VEVENT
DTSTART:20250310T091500
DTEND:20250526T123000
SUMMARY:Fratelli Tutti, une Encyclique qui invite à l&rsquo;engagement
DESCRIPTION:
LOCATION:
END:VEVENT
END:VCALENDAR
